BEGIN:VCALENDAR
VERSION:2.0
PRODID:-//hacksw/handcal//NONSGML v1.0//EN
BEGIN:VEVENT
SUMMARY:Meeting Luneville
UID:68c3d573-7c11-42e6-802a-efafc139e761
DTSTART:20260524T220000Z
DTEND:20260525T220000Z
LOCATION:Localisation   
CATEGORIES:Sportif
STATUS:
URL;VALUE=URI:https://caj.sportsregions.fr/evenements/2026/05/25/meeting-luneville-2425628
END:VEVENT
END:VCALENDAR
